BEGIN:VCALENDAR
VERSION:2.0
PRODID:-// - ECPv6.3.2//NONSGML v1.0//EN
CALSCALE:GREGORIAN
METHOD:PUBLISH
X-ORIGINAL-URL:https://www.bonhoeffer-verein-mannheim.de
X-WR-CALDESC:Veranstaltungen für 
REFRESH-INTERVAL;VALUE=DURATION:PT1H
X-Robots-Tag:noindex
X-PUBLISHED-TTL:PT1H
BEGIN:VTIMEZONE
TZID:Europe/Berlin
BEGIN:DAYLIGHT
TZOFFSETFROM:+0100
TZOFFSETTO:+0200
TZNAME:CEST
DTSTART:20240331T010000
END:DAYLIGHT
BEGIN:STANDARD
TZOFFSETFROM:+0200
TZOFFSETTO:+0100
TZNAME:CET
DTSTART:20241027T010000
END:STANDARD
END:VTIMEZONE
BEGIN:VEVENT
DTSTART;VALUE=DATE:20240520
DTEND;VALUE=DATE:20240601
DTSTAMP:20260422T084007
CREATED:20231116T083537Z
LAST-MODIFIED:20231116T083537Z
UID:2714-1716163200-1717199999@www.bonhoeffer-verein-mannheim.de
SUMMARY:Pfingstferien
DESCRIPTION:Ferienbetreuung an der Dietrich-Bonhoeffer-Grundschule
URL:https://www.bonhoeffer-verein-mannheim.de/veranstaltung/pfingstferien/
END:VEVENT
END:VCALENDAR