BEGIN:VCALENDAR
VERSION:2.0
PRODID:-// - ECPv6.3.2//NONSGML v1.0//EN
CALSCALE:GREGORIAN
METHOD:PUBLISH
X-ORIGINAL-URL:https://www.bonhoeffer-verein-mannheim.de
X-WR-CALDESC:Veranstaltungen für 
REFRESH-INTERVAL;VALUE=DURATION:PT1H
X-Robots-Tag:noindex
X-PUBLISHED-TTL:PT1H
BEGIN:VTIMEZONE
TZID:Europe/Berlin
BEGIN:DAYLIGHT
TZOFFSETFROM:+0100
TZOFFSETTO:+0200
TZNAME:CEST
DTSTART:20230326T010000
END:DAYLIGHT
BEGIN:STANDARD
TZOFFSETFROM:+0200
TZOFFSETTO:+0100
TZNAME:CET
DTSTART:20231029T010000
END:STANDARD
BEGIN:DAYLIGHT
TZOFFSETFROM:+0100
TZOFFSETTO:+0200
TZNAME:CEST
DTSTART:20240331T010000
END:DAYLIGHT
BEGIN:STANDARD
TZOFFSETFROM:+0200
TZOFFSETTO:+0100
TZNAME:CET
DTSTART:20241027T010000
END:STANDARD
END:VTIMEZONE
BEGIN:VEVENT
DTSTART;VALUE=DATE:20240725
DTEND;VALUE=DATE:20240907
DTSTAMP:20260421T150432
CREATED:20231116T084315Z
LAST-MODIFIED:20231116T084315Z
UID:2721-1721865600-1725667199@www.bonhoeffer-verein-mannheim.de
SUMMARY:Sommerferien
DESCRIPTION:Ferienbetreuung an der DBS vom 26.08.2024 – 06.09.2024
URL:https://www.bonhoeffer-verein-mannheim.de/veranstaltung/sommerferien-2/
END:VEVENT
BEGIN:VEVENT
DTSTART;TZID=Europe/Berlin:20240724T090000
DTEND;TZID=Europe/Berlin:20240724T100000
DTSTAMP:20260421T150432
CREATED:20231116T084035Z
LAST-MODIFIED:20231116T084035Z
UID:2716-1721811600-1721815200@www.bonhoeffer-verein-mannheim.de
SUMMARY:Schuljahresabschlussgottesdienst der DBS
DESCRIPTION:An diesem Tag beginnt der Unterricht nach Stundenplan und endet um 11:30 Uhr. \nKernzeit und Nachmittagsbetreuung entfallen.
URL:https://www.bonhoeffer-verein-mannheim.de/veranstaltung/schuljahresabschlussgottesdienst-der-dbs/
END:VEVENT
BEGIN:VEVENT
DTSTART;TZID=Europe/Berlin:20240712T123000
DTEND;TZID=Europe/Berlin:20240712T131500
DTSTAMP:20260421T150432
CREATED:20231116T075127Z
LAST-MODIFIED:20231116T075127Z
UID:2697-1720787400-1720790100@www.bonhoeffer-verein-mannheim.de
SUMMARY:Pädagogik Stunde (PS) für Klasse 1-4 an der DBS
DESCRIPTION:Klasse 4 von 11:45 Uhr – 12:30 Uhr
URL:https://www.bonhoeffer-verein-mannheim.de/veranstaltung/paedagogik-stunde-ps-fuer-klasse-1-4-an-der-dbs-8/
END:VEVENT
BEGIN:VEVENT
DTSTART;TZID=Europe/Berlin:20240621T123000
DTEND;TZID=Europe/Berlin:20240621T131500
DTSTAMP:20260421T150432
CREATED:20231116T074952Z
LAST-MODIFIED:20231116T074952Z
UID:2695-1718973000-1718975700@www.bonhoeffer-verein-mannheim.de
SUMMARY:Pädagogik Stunde (PS) für Klasse 1-4 an der DBS
DESCRIPTION:Klasse 4 von 11:45 Uhr – 12:30 Uhr
URL:https://www.bonhoeffer-verein-mannheim.de/veranstaltung/paedagogik-stunde-ps-fuer-klasse-1-4-an-der-dbs-7/
END:VEVENT
BEGIN:VEVENT
DTSTART;VALUE=DATE:20240520
DTEND;VALUE=DATE:20240601
DTSTAMP:20260421T150432
CREATED:20231116T083537Z
LAST-MODIFIED:20231116T083537Z
UID:2714-1716163200-1717199999@www.bonhoeffer-verein-mannheim.de
SUMMARY:Pfingstferien
DESCRIPTION:Ferienbetreuung an der Dietrich-Bonhoeffer-Grundschule
URL:https://www.bonhoeffer-verein-mannheim.de/veranstaltung/pfingstferien/
END:VEVENT
BEGIN:VEVENT
DTSTART;TZID=Europe/Berlin:20240517T123000
DTEND;TZID=Europe/Berlin:20240517T131500
DTSTAMP:20260421T150432
CREATED:20231116T074846Z
LAST-MODIFIED:20231116T074846Z
UID:2693-1715949000-1715951700@www.bonhoeffer-verein-mannheim.de
SUMMARY:Pädagogik Stunde (PS) für Klasse 1-4 an der DBS
DESCRIPTION:Klasse 4 von 11:45 Uhr – 12:30 Uhr
URL:https://www.bonhoeffer-verein-mannheim.de/veranstaltung/paedagogik-stunde-ps-fuer-klasse-1-4-an-der-dbs-6/
END:VEVENT
BEGIN:VEVENT
DTSTART;VALUE=DATE:20240510
DTEND;VALUE=DATE:20240511
DTSTAMP:20260421T150432
CREATED:20231116T083244Z
LAST-MODIFIED:20231116T083244Z
UID:2712-1715299200-1715385599@www.bonhoeffer-verein-mannheim.de
SUMMARY:beweglicher Ferientag
DESCRIPTION:
URL:https://www.bonhoeffer-verein-mannheim.de/veranstaltung/beweglicher-ferientag-4/
END:VEVENT
BEGIN:VEVENT
DTSTART;TZID=Europe/Berlin:20240419T123000
DTEND;TZID=Europe/Berlin:20240419T131500
DTSTAMP:20260421T150432
CREATED:20231116T074715Z
LAST-MODIFIED:20231116T074715Z
UID:2691-1713529800-1713532500@www.bonhoeffer-verein-mannheim.de
SUMMARY:Pädagogik Stunde (PS) für Klasse 1-4 an der DBS
DESCRIPTION:Klasse 4 von 11:45 Uhr – 12:30 Uhr
URL:https://www.bonhoeffer-verein-mannheim.de/veranstaltung/paedagogik-stunde-ps-fuer-klasse-1-4-an-der-dbs-5/
END:VEVENT
BEGIN:VEVENT
DTSTART;VALUE=DATE:20240325
DTEND;VALUE=DATE:20240406
DTSTAMP:20260421T150432
CREATED:20231116T083118Z
LAST-MODIFIED:20231116T083118Z
UID:2710-1711324800-1712361599@www.bonhoeffer-verein-mannheim.de
SUMMARY:Osterferien
DESCRIPTION:
URL:https://www.bonhoeffer-verein-mannheim.de/veranstaltung/osterferien-2/
END:VEVENT
BEGIN:VEVENT
DTSTART;TZID=Europe/Berlin:20240322T085000
DTEND;TZID=Europe/Berlin:20240322T095000
DTSTAMP:20260421T150432
CREATED:20231116T082932Z
LAST-MODIFIED:20231116T082932Z
UID:2707-1711097400-1711101000@www.bonhoeffer-verein-mannheim.de
SUMMARY:Ostergottesdienst der DBS in der VIVA
DESCRIPTION:
URL:https://www.bonhoeffer-verein-mannheim.de/veranstaltung/ostergottesdienst-der-dbs-in-der-viva/
END:VEVENT
BEGIN:VEVENT
DTSTART;TZID=Europe/Berlin:20240308T123000
DTEND;TZID=Europe/Berlin:20240308T131500
DTSTAMP:20260421T150432
CREATED:20231116T074558Z
LAST-MODIFIED:20231116T074558Z
UID:2689-1709901000-1709903700@www.bonhoeffer-verein-mannheim.de
SUMMARY:Pädagogik Stunde (PS) für Klasse 1-4 an der DBS
DESCRIPTION:Klasse 4 von 11:45 Uhr – 12:30 Uhr
URL:https://www.bonhoeffer-verein-mannheim.de/veranstaltung/paedagogik-stunde-ps-fuer-klasse-1-4-an-der-dbs-4/
END:VEVENT
BEGIN:VEVENT
DTSTART;TZID=Europe/Berlin:20240223T123000
DTEND;TZID=Europe/Berlin:20240223T131500
DTSTAMP:20260421T150432
CREATED:20231116T074355Z
LAST-MODIFIED:20231116T074355Z
UID:2687-1708691400-1708694100@www.bonhoeffer-verein-mannheim.de
SUMMARY:Pädagogik Stunde (PS) für Klasse 1-4 an der DBS
DESCRIPTION:Klasse 4 von 11:45 Uhr – 12:30 Uhr
URL:https://www.bonhoeffer-verein-mannheim.de/veranstaltung/paedagogik-stunde-ps-fuer-klasse-1-4-an-der-dbs-3/
END:VEVENT
BEGIN:VEVENT
DTSTART;TZID=Europe/Berlin:20240223T090000
DTEND;TZID=Europe/Berlin:20240223T090000
DTSTAMP:20260421T150432
CREATED:20240126T091814Z
LAST-MODIFIED:20240126T091814Z
UID:2847-1708678800-1708678800@www.bonhoeffer-verein-mannheim.de
SUMMARY:Nachtestung Anwärter
DESCRIPTION:
URL:https://www.bonhoeffer-verein-mannheim.de/veranstaltung/nachtestung-anwaerter/
LOCATION:Dietrich-Bonhoeffer-Schule\, Am Ullrichsberg 20\, Mannheim\, 68309\, Deutschland
ORGANIZER;CN="Dietrich-Bonhoeffer-Schule":MAILTO:grundschule@bonhoeffer-schule-mannheim.de
END:VEVENT
BEGIN:VEVENT
DTSTART;VALUE=DATE:20240212
DTEND;VALUE=DATE:20240217
DTSTAMP:20260421T150432
CREATED:20231116T081650Z
LAST-MODIFIED:20231116T081650Z
UID:2704-1707696000-1708127999@www.bonhoeffer-verein-mannheim.de
SUMMARY:Winterferien
DESCRIPTION:Ferienbetreuung an der Dietrich-Bonhoeffer-Grundschule
URL:https://www.bonhoeffer-verein-mannheim.de/veranstaltung/winterferien/
END:VEVENT
BEGIN:VEVENT
DTSTART;TZID=Europe/Berlin:20240202T000000
DTEND;TZID=Europe/Berlin:20240202T000000
DTSTAMP:20260421T150432
CREATED:20240126T215335Z
LAST-MODIFIED:20240126T215335Z
UID:2853-1706832000-1706832000@www.bonhoeffer-verein-mannheim.de
SUMMARY:Fun-and-Play-Day
DESCRIPTION:Start und Ende nach Stundenplan/Betreuung findet statt
URL:https://www.bonhoeffer-verein-mannheim.de/veranstaltung/fun-and-play-day/
END:VEVENT
BEGIN:VEVENT
DTSTART;TZID=Europe/Berlin:20240119T090000
DTEND;TZID=Europe/Berlin:20240119T123000
DTSTAMP:20260421T150432
CREATED:20231116T081359Z
LAST-MODIFIED:20231116T081359Z
UID:2700-1705654800-1705667400@www.bonhoeffer-verein-mannheim.de
SUMMARY:Anwärtertag neue Klasse 1
DESCRIPTION:An diesem Tag findet an der DBS kein Unterricht statt\, ebenso entfällt die Nachmittagsbetreuung. \n 
URL:https://www.bonhoeffer-verein-mannheim.de/veranstaltung/anwaertertag-neue-klasse-1/
END:VEVENT
BEGIN:VEVENT
DTSTART;TZID=Europe/Berlin:20240112T123000
DTEND;TZID=Europe/Berlin:20240112T131500
DTSTAMP:20260421T150432
CREATED:20231116T074146Z
LAST-MODIFIED:20231116T074146Z
UID:2684-1705062600-1705065300@www.bonhoeffer-verein-mannheim.de
SUMMARY:Pädagogik Stunde (PS) für Klasse 1- 4 an der DBS
DESCRIPTION:Klasse 4 von 11:45 Uhr – 12:30 Uhr
URL:https://www.bonhoeffer-verein-mannheim.de/veranstaltung/paedagogik-stunde-ps-fuer-klasse-1-4-an-der-dbs-2/
END:VEVENT
BEGIN:VEVENT
DTSTART;TZID=Europe/Berlin:20231222T113000
DTEND;TZID=Europe/Berlin:20231222T123000
DTSTAMP:20260421T150432
CREATED:20231107T104029Z
LAST-MODIFIED:20231107T104029Z
UID:2666-1703244600-1703248200@www.bonhoeffer-verein-mannheim.de
SUMMARY:Weihnachtsgottesdienst um 11:30 Uhr an der DBS
DESCRIPTION:Der Gottesdienst findet in den Räumlichkeiten der VIVA Kirche Mannheim statt. \nDie Schüler der Dietrich-Bonhoeffer-Grundschule führen ein Weihnachtsmusical mit dem Titel „The Big Little Nativity“ auf. \nDer Eintritt ist kostenlos. Jedoch möchten wir dieses Ereignis nutzen\, um Spenden für das Jeremie Projekt zu sammeln: Sozialprojekt für die ganze Familie: Bildung ermöglichen – Hoffnung schenken – Zukunft bauen \n 
URL:https://www.bonhoeffer-verein-mannheim.de/veranstaltung/weihnachtsgottesdienst-um-1130-uhr-an-der-dbs/
LOCATION:Viva Church Mannheim
END:VEVENT
BEGIN:VEVENT
DTSTART;VALUE=DATE:20231222
DTEND;VALUE=DATE:20240106
DTSTAMP:20260421T150432
CREATED:20231107T105809Z
LAST-MODIFIED:20231107T105809Z
UID:2673-1703203200-1704499199@www.bonhoeffer-verein-mannheim.de
SUMMARY:Weihnachtsferien
DESCRIPTION:
URL:https://www.bonhoeffer-verein-mannheim.de/veranstaltung/weihnachtsferien-2/
END:VEVENT
BEGIN:VEVENT
DTSTART;TZID=Europe/Berlin:20231208T123000
DTEND;TZID=Europe/Berlin:20231208T131500
DTSTAMP:20260421T150432
CREATED:20231116T073647Z
LAST-MODIFIED:20231116T073647Z
UID:2681-1702038600-1702041300@www.bonhoeffer-verein-mannheim.de
SUMMARY:Pädagogik Stunde (PS) für Klasse 1-4 an der DBS
DESCRIPTION:Klasse 4 von 11:45 Uhr – 12:30 Uhr
URL:https://www.bonhoeffer-verein-mannheim.de/veranstaltung/paedagogik-stunde-ps-fuer-klasse-1-4-an-der-dbs/
END:VEVENT
BEGIN:VEVENT
DTSTART;TZID=Europe/Berlin:20231201T150000
DTEND;TZID=Europe/Berlin:20231201T180000
DTSTAMP:20260421T150432
CREATED:20231102T164857Z
LAST-MODIFIED:20231102T164857Z
UID:2662-1701442800-1701453600@www.bonhoeffer-verein-mannheim.de
SUMMARY:Tag der offenen Tür an der Dietrich-Bonhoeffer-Grundschule
DESCRIPTION:
URL:https://www.bonhoeffer-verein-mannheim.de/veranstaltung/tag-der-offenen-tuer-an-der-dietrich-bonhoeffer-grundschule/
END:VEVENT
BEGIN:VEVENT
DTSTART;TZID=Europe/Berlin:20230828T080000
DTEND;TZID=Europe/Berlin:20230908T140000
DTSTAMP:20260421T150432
CREATED:20220627T100404Z
LAST-MODIFIED:20220923T092004Z
UID:2143-1693209600-1694181600@www.bonhoeffer-verein-mannheim.de
SUMMARY:Sommerferien mit Betreuung
DESCRIPTION:
URL:https://www.bonhoeffer-verein-mannheim.de/veranstaltung/sommerferien-mit-betreuung/
END:VEVENT
BEGIN:VEVENT
DTSTART;VALUE=DATE:20230727
DTEND;VALUE=DATE:20230910
DTSTAMP:20260421T150432
CREATED:20220627T100244Z
LAST-MODIFIED:20220923T092032Z
UID:2140-1690416000-1694303999@www.bonhoeffer-verein-mannheim.de
SUMMARY:Sommerferien
DESCRIPTION:
URL:https://www.bonhoeffer-verein-mannheim.de/veranstaltung/sommerferien/
END:VEVENT
BEGIN:VEVENT
DTSTART;TZID=Europe/Berlin:20230726T090000
DTEND;TZID=Europe/Berlin:20230726T113000
DTSTAMP:20260421T150432
CREATED:20220910T080443Z
LAST-MODIFIED:20220923T092117Z
UID:2303-1690362000-1690371000@www.bonhoeffer-verein-mannheim.de
SUMMARY:Schuljahresabschlussgottesdienst
DESCRIPTION:Start nach Stundenplan; \nZeugnisausgabe; \nSchulende um 11:30 Uhr; \nKEINE Spätkernzeit + Hort
URL:https://www.bonhoeffer-verein-mannheim.de/veranstaltung/schuljahresabschlussgottesdienst/
END:VEVENT
BEGIN:VEVENT
DTSTART;TZID=Europe/Berlin:20230720T080000
DTEND;TZID=Europe/Berlin:20230720T130000
DTSTAMP:20260421T150432
CREATED:20220923T091837Z
LAST-MODIFIED:20220923T091837Z
UID:2348-1689840000-1689858000@www.bonhoeffer-verein-mannheim.de
SUMMARY:Bücherrückgabe alle Klassen
DESCRIPTION:
URL:https://www.bonhoeffer-verein-mannheim.de/veranstaltung/buecherrueckgabe-alle-klassen/
END:VEVENT
BEGIN:VEVENT
DTSTART;TZID=Europe/Berlin:20230705T080000
DTEND;TZID=Europe/Berlin:20230707T140000
DTSTAMP:20260421T150432
CREATED:20230424T081231Z
LAST-MODIFIED:20230629T061429Z
UID:2525-1688544000-1688738400@www.bonhoeffer-verein-mannheim.de
SUMMARY:Lifeprojekt Klasse 1+3
DESCRIPTION:
URL:https://www.bonhoeffer-verein-mannheim.de/veranstaltung/lifeprojekt-klasse-1-23/
END:VEVENT
BEGIN:VEVENT
DTSTART;TZID=Europe/Berlin:20230623T080000
DTEND;TZID=Europe/Berlin:20230623T130000
DTSTAMP:20260421T150432
CREATED:20230420T081341Z
LAST-MODIFIED:20230420T081404Z
UID:2520-1687507200-1687525200@www.bonhoeffer-verein-mannheim.de
SUMMARY:Explore science Ausflug
DESCRIPTION:
URL:https://www.bonhoeffer-verein-mannheim.de/veranstaltung/explore-science-ausflug/
END:VEVENT
BEGIN:VEVENT
DTSTART;TZID=Europe/Berlin:20230622T190000
DTEND;TZID=Europe/Berlin:20230622T200000
DTSTAMP:20260421T150432
CREATED:20220910T080140Z
LAST-MODIFIED:20220923T091713Z
UID:2299-1687460400-1687464000@www.bonhoeffer-verein-mannheim.de
SUMMARY:Kennenlernabend neue Klasse 1
DESCRIPTION:nur für die neuen Eltern
URL:https://www.bonhoeffer-verein-mannheim.de/veranstaltung/kennenlernabend-neue-klasse-1/
END:VEVENT
BEGIN:VEVENT
DTSTART;TZID=Europe/Berlin:20230613T100000
DTEND;TZID=Europe/Berlin:20230613T113000
DTSTAMP:20260421T150432
CREATED:20220910T080821Z
LAST-MODIFIED:20220910T080821Z
UID:2297-1686650400-1686655800@www.bonhoeffer-verein-mannheim.de
SUMMARY:Projekttag neue Erstklässler
DESCRIPTION:
URL:https://www.bonhoeffer-verein-mannheim.de/veranstaltung/projekttag-neue-erstklaessler/
END:VEVENT
BEGIN:VEVENT
DTSTART;TZID=Europe/Berlin:20230530T080000
DTEND;TZID=Europe/Berlin:20230609T140000
DTSTAMP:20260421T150432
CREATED:20220627T095849Z
LAST-MODIFIED:20220923T092433Z
UID:2136-1685433600-1686319200@www.bonhoeffer-verein-mannheim.de
SUMMARY:Pfingstferien mit Betreuung
DESCRIPTION:Ausgenommen von der Betreuung ist Donnerstag\, der 08.06.2023 (Fronleichnam).
URL:https://www.bonhoeffer-verein-mannheim.de/veranstaltung/pfingstferien-mit-betreuung/
END:VEVENT
END:VCALENDAR