BEGIN:VCALENDAR
VERSION:2.0
PRODID:-// - ECPv6.3.2//NONSGML v1.0//EN
CALSCALE:GREGORIAN
METHOD:PUBLISH
X-ORIGINAL-URL:https://www.bonhoeffer-verein-mannheim.de
X-WR-CALDESC:Veranstaltungen für 
REFRESH-INTERVAL;VALUE=DURATION:PT1H
X-Robots-Tag:noindex
X-PUBLISHED-TTL:PT1H
BEGIN:VTIMEZONE
TZID:Europe/Berlin
BEGIN:DAYLIGHT
TZOFFSETFROM:+0100
TZOFFSETTO:+0200
TZNAME:CEST
DTSTART:20230326T010000
END:DAYLIGHT
BEGIN:STANDARD
TZOFFSETFROM:+0200
TZOFFSETTO:+0100
TZNAME:CET
DTSTART:20231029T010000
END:STANDARD
END:VTIMEZONE
BEGIN:VEVENT
DTSTART;TZID=Europe/Berlin:20230705T080000
DTEND;TZID=Europe/Berlin:20230707T140000
DTSTAMP:20260422T212532
CREATED:20230424T081231Z
LAST-MODIFIED:20230629T061429Z
UID:2525-1688544000-1688738400@www.bonhoeffer-verein-mannheim.de
SUMMARY:Lifeprojekt Klasse 1+3
DESCRIPTION:
URL:https://www.bonhoeffer-verein-mannheim.de/veranstaltung/lifeprojekt-klasse-1-23/
END:VEVENT
BEGIN:VEVENT
DTSTART;TZID=Europe/Berlin:20230720T080000
DTEND;TZID=Europe/Berlin:20230720T130000
DTSTAMP:20260422T212532
CREATED:20220923T091837Z
LAST-MODIFIED:20220923T091837Z
UID:2348-1689840000-1689858000@www.bonhoeffer-verein-mannheim.de
SUMMARY:Bücherrückgabe alle Klassen
DESCRIPTION:
URL:https://www.bonhoeffer-verein-mannheim.de/veranstaltung/buecherrueckgabe-alle-klassen/
END:VEVENT
BEGIN:VEVENT
DTSTART;TZID=Europe/Berlin:20230726T090000
DTEND;TZID=Europe/Berlin:20230726T113000
DTSTAMP:20260422T212532
CREATED:20220910T080443Z
LAST-MODIFIED:20220923T092117Z
UID:2303-1690362000-1690371000@www.bonhoeffer-verein-mannheim.de
SUMMARY:Schuljahresabschlussgottesdienst
DESCRIPTION:Start nach Stundenplan; \nZeugnisausgabe; \nSchulende um 11:30 Uhr; \nKEINE Spätkernzeit + Hort
URL:https://www.bonhoeffer-verein-mannheim.de/veranstaltung/schuljahresabschlussgottesdienst/
END:VEVENT
BEGIN:VEVENT
DTSTART;VALUE=DATE:20230727
DTEND;VALUE=DATE:20230910
DTSTAMP:20260422T212532
CREATED:20220627T100244Z
LAST-MODIFIED:20220923T092032Z
UID:2140-1690416000-1694303999@www.bonhoeffer-verein-mannheim.de
SUMMARY:Sommerferien
DESCRIPTION:
URL:https://www.bonhoeffer-verein-mannheim.de/veranstaltung/sommerferien/
END:VEVENT
END:VCALENDAR