BEGIN:VCALENDAR
VERSION:2.0
PRODID:-// - ECPv6.3.2//NONSGML v1.0//EN
CALSCALE:GREGORIAN
METHOD:PUBLISH
X-ORIGINAL-URL:https://www.bonhoeffer-verein-mannheim.de
X-WR-CALDESC:Veranstaltungen für 
REFRESH-INTERVAL;VALUE=DURATION:PT1H
X-Robots-Tag:noindex
X-PUBLISHED-TTL:PT1H
BEGIN:VTIMEZONE
TZID:Europe/Berlin
BEGIN:DAYLIGHT
TZOFFSETFROM:+0100
TZOFFSETTO:+0200
TZNAME:CEST
DTSTART:20230326T010000
END:DAYLIGHT
BEGIN:STANDARD
TZOFFSETFROM:+0200
TZOFFSETTO:+0100
TZNAME:CET
DTSTART:20231029T010000
END:STANDARD
BEGIN:DAYLIGHT
TZOFFSETFROM:+0100
TZOFFSETTO:+0200
TZNAME:CEST
DTSTART:20240331T010000
END:DAYLIGHT
BEGIN:STANDARD
TZOFFSETFROM:+0200
TZOFFSETTO:+0100
TZNAME:CET
DTSTART:20241027T010000
END:STANDARD
END:VTIMEZONE
BEGIN:VEVENT
DTSTART;VALUE=DATE:20231222
DTEND;VALUE=DATE:20240106
DTSTAMP:20260422T122648
CREATED:20231107T105809Z
LAST-MODIFIED:20231107T105809Z
UID:2673-1703203200-1704499199@www.bonhoeffer-verein-mannheim.de
SUMMARY:Weihnachtsferien
DESCRIPTION:
URL:https://www.bonhoeffer-verein-mannheim.de/veranstaltung/weihnachtsferien-2/
END:VEVENT
BEGIN:VEVENT
DTSTART;TZID=Europe/Berlin:20240112T123000
DTEND;TZID=Europe/Berlin:20240112T131500
DTSTAMP:20260422T122648
CREATED:20231116T074146Z
LAST-MODIFIED:20231116T074146Z
UID:2684-1705062600-1705065300@www.bonhoeffer-verein-mannheim.de
SUMMARY:Pädagogik Stunde (PS) für Klasse 1- 4 an der DBS
DESCRIPTION:Klasse 4 von 11:45 Uhr – 12:30 Uhr
URL:https://www.bonhoeffer-verein-mannheim.de/veranstaltung/paedagogik-stunde-ps-fuer-klasse-1-4-an-der-dbs-2/
END:VEVENT
BEGIN:VEVENT
DTSTART;TZID=Europe/Berlin:20240119T090000
DTEND;TZID=Europe/Berlin:20240119T123000
DTSTAMP:20260422T122648
CREATED:20231116T081359Z
LAST-MODIFIED:20231116T081359Z
UID:2700-1705654800-1705667400@www.bonhoeffer-verein-mannheim.de
SUMMARY:Anwärtertag neue Klasse 1
DESCRIPTION:An diesem Tag findet an der DBS kein Unterricht statt\, ebenso entfällt die Nachmittagsbetreuung. \n 
URL:https://www.bonhoeffer-verein-mannheim.de/veranstaltung/anwaertertag-neue-klasse-1/
END:VEVENT
END:VCALENDAR