BEGIN:VCALENDAR
VERSION:2.0
PRODID:-// - ECPv6.3.2//NONSGML v1.0//EN
CALSCALE:GREGORIAN
METHOD:PUBLISH
X-ORIGINAL-URL:https://www.bonhoeffer-verein-mannheim.de
X-WR-CALDESC:Veranstaltungen für 
REFRESH-INTERVAL;VALUE=DURATION:PT1H
X-Robots-Tag:noindex
X-PUBLISHED-TTL:PT1H
BEGIN:VTIMEZONE
TZID:Europe/Berlin
BEGIN:DAYLIGHT
TZOFFSETFROM:+0100
TZOFFSETTO:+0200
TZNAME:CEST
DTSTART:20240331T010000
END:DAYLIGHT
BEGIN:STANDARD
TZOFFSETFROM:+0200
TZOFFSETTO:+0100
TZNAME:CET
DTSTART:20241027T010000
END:STANDARD
END:VTIMEZONE
BEGIN:VEVENT
DTSTART;TZID=Europe/Berlin:20240712T123000
DTEND;TZID=Europe/Berlin:20240712T131500
DTSTAMP:20260422T042937
CREATED:20231116T075127Z
LAST-MODIFIED:20231116T075127Z
UID:2697-1720787400-1720790100@www.bonhoeffer-verein-mannheim.de
SUMMARY:Pädagogik Stunde (PS) für Klasse 1-4 an der DBS
DESCRIPTION:Klasse 4 von 11:45 Uhr – 12:30 Uhr
URL:https://www.bonhoeffer-verein-mannheim.de/veranstaltung/paedagogik-stunde-ps-fuer-klasse-1-4-an-der-dbs-8/
END:VEVENT
BEGIN:VEVENT
DTSTART;TZID=Europe/Berlin:20240724T090000
DTEND;TZID=Europe/Berlin:20240724T100000
DTSTAMP:20260422T042937
CREATED:20231116T084035Z
LAST-MODIFIED:20231116T084035Z
UID:2716-1721811600-1721815200@www.bonhoeffer-verein-mannheim.de
SUMMARY:Schuljahresabschlussgottesdienst der DBS
DESCRIPTION:An diesem Tag beginnt der Unterricht nach Stundenplan und endet um 11:30 Uhr. \nKernzeit und Nachmittagsbetreuung entfallen.
URL:https://www.bonhoeffer-verein-mannheim.de/veranstaltung/schuljahresabschlussgottesdienst-der-dbs/
END:VEVENT
BEGIN:VEVENT
DTSTART;VALUE=DATE:20240725
DTEND;VALUE=DATE:20240907
DTSTAMP:20260422T042937
CREATED:20231116T084315Z
LAST-MODIFIED:20231116T084315Z
UID:2721-1721865600-1725667199@www.bonhoeffer-verein-mannheim.de
SUMMARY:Sommerferien
DESCRIPTION:Ferienbetreuung an der DBS vom 26.08.2024 – 06.09.2024
URL:https://www.bonhoeffer-verein-mannheim.de/veranstaltung/sommerferien-2/
END:VEVENT
END:VCALENDAR